BEGIN:VCALENDAR
VERSION:2.0
PRODID:-//Cosems AP - ECPv6.15.13.1//NONSGML v1.0//EN
CALSCALE:GREGORIAN
METHOD:PUBLISH
X-WR-CALNAME:Cosems AP
X-ORIGINAL-URL:https://cosemsap.org.br
X-WR-CALDESC:Eventos para Cosems AP
REFRESH-INTERVAL;VALUE=DURATION:PT1H
X-Robots-Tag:noindex
X-PUBLISHED-TTL:PT1H
BEGIN:VTIMEZONE
TZID:America/Sao_Paulo
BEGIN:STANDARD
TZOFFSETFROM:-0300
TZOFFSETTO:-0300
TZNAME:-03
DTSTART:20240101T000000
END:STANDARD
END:VTIMEZONE
BEGIN:VEVENT
DTSTART;TZID=America/Sao_Paulo:20250416T090000
DTEND;TZID=America/Sao_Paulo:20250416T170000
DTSTAMP:20260423T232144
CREATED:20250415T203947Z
LAST-MODIFIED:20250415T203947Z
UID:5721-1744794000-1744822800@cosemsap.org.br
SUMMARY:1ª Reunião Extraordinária da Mesa Estadual de Negociação Permanente do SUS - MENP/SUS
DESCRIPTION:
URL:https://cosemsap.org.br/evento/1a-reuniao-extraordinaria-da-mesa-estadual-de-negociacao-permanente-do-sus-menp-sus/
LOCATION:Gabinete da Secretária Estadual de Saúde (SESA)\, Av. Fab 81\, Macapá\, AP\, MACAPÁ\, AMAPÁ\, 68900-073
CATEGORIES:Palestra,Reunião
END:VEVENT
BEGIN:VEVENT
DTSTART;TZID=America/Sao_Paulo:20250415T150000
DTEND;TZID=America/Sao_Paulo:20250415T170000
DTSTAMP:20260423T232144
CREATED:20250415T200820Z
LAST-MODIFIED:20250415T200820Z
UID:5716-1744729200-1744736400@cosemsap.org.br
SUMMARY:Reunião do Grupo Condutor PMAE
DESCRIPTION:
URL:https://cosemsap.org.br/evento/reuniao-do-grupo-condutor-pmae/
LOCATION:Local: Secretaria de Saúde do Estado
CATEGORIES:Palestra,Reunião
END:VEVENT
BEGIN:VEVENT
DTSTART;TZID=America/Sao_Paulo:20250414T150000
DTEND;TZID=America/Sao_Paulo:20250414T170000
DTSTAMP:20260423T232144
CREATED:20250415T200156Z
LAST-MODIFIED:20250415T200455Z
UID:5714-1744642800-1744650000@cosemsap.org.br
SUMMARY:Reunião Ordinária GTTAF
DESCRIPTION:
URL:https://cosemsap.org.br/evento/reuniao-ordinaria-gttaf-2/
CATEGORIES:Reunião
END:VEVENT
BEGIN:VEVENT
DTSTART;TZID=America/Sao_Paulo:20250411T090000
DTEND;TZID=America/Sao_Paulo:20250411T170000
DTSTAMP:20260423T232144
CREATED:20250116T202041Z
LAST-MODIFIED:20250117T192623Z
UID:5053-1744362000-1744390800@cosemsap.org.br
SUMMARY:IV Assembleia Geral Ordinária do COSEMS/AP
DESCRIPTION:
URL:https://cosemsap.org.br/evento/iv-assembleia-ordinaria-do-cosemsap/
LOCATION:sede do cosems amapá\, AV. LEOPOLDO MACHADO N°1614 ESQUINA COM MENDONÇA FURTADO\, CENTRO\,\, MACAPÁ\, AMAPÁ\, 68.900-070
END:VEVENT
BEGIN:VEVENT
DTSTART;TZID=America/Sao_Paulo:20250411T080000
DTEND;TZID=America/Sao_Paulo:20250411T170000
DTSTAMP:20260423T232144
CREATED:20250210T153021Z
LAST-MODIFIED:20250210T153021Z
UID:5351-1744358400-1744390800@cosemsap.org.br
SUMMARY:Capacitação SIOPS no Amapá
DESCRIPTION:
URL:https://cosemsap.org.br/evento/capacitacao-siops-no-amapa-2/
CATEGORIES:Reunião
END:VEVENT
BEGIN:VEVENT
DTSTART;TZID=America/Sao_Paulo:20250410T083000
DTEND;TZID=America/Sao_Paulo:20250410T150000
DTSTAMP:20260423T232144
CREATED:20250312T204302Z
LAST-MODIFIED:20250312T205439Z
UID:5601-1744273800-1744297200@cosemsap.org.br
SUMMARY:Oficina Saúde em Rede
DESCRIPTION:
URL:https://cosemsap.org.br/evento/lxxxvii-reuniao-extraordinaria-do-conselho-estadual-de-saude/
LOCATION:Município de Oiapoque
CATEGORIES:Palestra,Reunião
END:VEVENT
BEGIN:VEVENT
DTSTART;TZID=America/Sao_Paulo:20250410T080000
DTEND;TZID=America/Sao_Paulo:20250410T170000
DTSTAMP:20260423T232144
CREATED:20250210T152933Z
LAST-MODIFIED:20250210T152933Z
UID:5349-1744272000-1744304400@cosemsap.org.br
SUMMARY:Capacitação SIOPS no Amapá
DESCRIPTION:
URL:https://cosemsap.org.br/evento/capacitacao-siops-no-amapa/
CATEGORIES:Reunião
END:VEVENT
BEGIN:VEVENT
DTSTART;TZID=America/Sao_Paulo:20250402T140000
DTEND;TZID=America/Sao_Paulo:20250402T180000
DTSTAMP:20260423T232144
CREATED:20250331T193126Z
LAST-MODIFIED:20250331T193706Z
UID:5668-1743602400-1743616800@cosemsap.org.br
SUMMARY:Seminário Estadual TEA em Foco: Compreender para Incluir
DESCRIPTION:
URL:https://cosemsap.org.br/evento/reuniao-do-grupo-condutor/
LOCATION:auditório da OAB
CATEGORIES:Palestra,Reunião
END:VEVENT
BEGIN:VEVENT
DTSTART;TZID=America/Sao_Paulo:20250401T150000
DTEND;TZID=America/Sao_Paulo:20250401T180000
DTSTAMP:20260423T232144
CREATED:20250331T193856Z
LAST-MODIFIED:20250331T193856Z
UID:5675-1743519600-1743530400@cosemsap.org.br
SUMMARY:Reunião do Grupo Condutor
DESCRIPTION:
URL:https://cosemsap.org.br/evento/reuniao-do-grupo-condutor-2/
LOCATION:Secretaria de Estado
CATEGORIES:Palestra,Reunião
END:VEVENT
BEGIN:VEVENT
DTSTART;TZID=America/Sao_Paulo:20250401T080000
DTEND;TZID=America/Sao_Paulo:20250401T120000
DTSTAMP:20260423T232144
CREATED:20250331T193021Z
LAST-MODIFIED:20250331T193021Z
UID:5665-1743494400-1743508800@cosemsap.org.br
SUMMARY:Reunião sobre a liturgia do preenchimento dos relatórios de atividades das Comissões
DESCRIPTION:
URL:https://cosemsap.org.br/evento/reuniao-sobre-a-liturgia-do-preenchimento-dos-relatorios-de-atividades-das-comissoes/
LOCATION:Sede Provisória do Conselho Estadual de Saúde-Ces
CATEGORIES:Palestra,Reunião
END:VEVENT
BEGIN:VEVENT
DTSTART;TZID=America/Sao_Paulo:20250331T093000
DTEND;TZID=America/Sao_Paulo:20250331T110000
DTSTAMP:20260423T232144
CREATED:20250325T174758Z
LAST-MODIFIED:20250325T174758Z
UID:5648-1743413400-1743418800@cosemsap.org.br
SUMMARY:Reunião para articulação com Estados e COSEMS I Vacina Covid-19
DESCRIPTION:Pautas: 1. Campanha de Influenza; 2. Vacinação nas Escolas; 3. Vacina Covid-19.
URL:https://cosemsap.org.br/evento/reuniao-para-articulacao-com-estados-e-cosems-i-vacina-covid-19/
END:VEVENT
BEGIN:VEVENT
DTSTART;TZID=America/Sao_Paulo:20250326T150000
DTEND;TZID=America/Sao_Paulo:20250326T170000
DTSTAMP:20260423T232144
CREATED:20250325T174632Z
LAST-MODIFIED:20250325T174632Z
UID:5646-1743001200-1743008400@cosemsap.org.br
SUMMARY:SUS em Pauta - A Saúde dos Trabalhadores e Trabalhadoras como Direito Humano: Reflexões sobre a 5ª Conferência
DESCRIPTION:
URL:https://cosemsap.org.br/evento/sus-em-pauta-a-saude-dos-trabalhadores-e-trabalhadoras-como-direito-humano-reflexoes-sobre-a-5a-conferencia/
CATEGORIES:Palestra,Reunião
END:VEVENT
BEGIN:VEVENT
DTSTART;TZID=America/Sao_Paulo:20250325T090000
DTEND;TZID=America/Sao_Paulo:20250325T120000
DTSTAMP:20260423T232144
CREATED:20250325T175245Z
LAST-MODIFIED:20250325T175245Z
UID:5653-1742893200-1742904000@cosemsap.org.br
SUMMARY:Reunião Estratégica Sobre Vacinação nas Escolas
DESCRIPTION:
URL:https://cosemsap.org.br/evento/reuniao-estrategica-sobre-vacinacao-nas-escolas/
CATEGORIES:Palestra,Reunião
END:VEVENT
BEGIN:VEVENT
DTSTART;TZID=America/Sao_Paulo:20250325T083000
DTEND;TZID=America/Sao_Paulo:20250325T130000
DTSTAMP:20260423T232144
CREATED:20250325T174520Z
LAST-MODIFIED:20250325T174520Z
UID:5643-1742891400-1742907600@cosemsap.org.br
SUMMARY:CIX(109º) REUNIÃO ORDINÁRIA-2025 CONSELHO ESTADUAL SAÚDE CES/AP
DESCRIPTION:
URL:https://cosemsap.org.br/evento/cix109o-reuniao-ordinaria-2025-conselho-estadual-saude-ces-ap/
LOCATION:Sede do Conselho Estadual de Saúde – CES
CATEGORIES:Palestra,Reunião
END:VEVENT
BEGIN:VEVENT
DTSTART;TZID=America/Sao_Paulo:20250325T080000
DTEND;TZID=America/Sao_Paulo:20250325T180000
DTSTAMP:20260423T232144
CREATED:20250325T175042Z
LAST-MODIFIED:20250325T175042Z
UID:5650-1742889600-1742925600@cosemsap.org.br
SUMMARY:Oficina de Ativação do Programa Mais Acesso à Especialistas - PMAE
DESCRIPTION:
URL:https://cosemsap.org.br/evento/oficina-de-ativacao-do-programa-mais-acesso-a-especialistas-pmae/
LOCATION:auditório do senac
CATEGORIES:Palestra,Reunião
END:VEVENT
BEGIN:VEVENT
DTSTART;TZID=America/Sao_Paulo:20250324T160000
DTEND;TZID=America/Sao_Paulo:20250324T180000
DTSTAMP:20260423T232144
CREATED:20250325T175424Z
LAST-MODIFIED:20250325T175424Z
UID:5655-1742832000-1742839200@cosemsap.org.br
SUMMARY:Webinário Seleção Novo PAC 2025
DESCRIPTION:
URL:https://cosemsap.org.br/evento/webinario-selecao-novo-pac-2025/
CATEGORIES:Palestra,Reunião
END:VEVENT
BEGIN:VEVENT
DTSTART;TZID=America/Sao_Paulo:20250320T080000
DTEND;TZID=America/Sao_Paulo:20250324T170000
DTSTAMP:20260423T232144
CREATED:20250228T144451Z
LAST-MODIFIED:20250228T144451Z
UID:5506-1742457600-1742835600@cosemsap.org.br
SUMMARY:Congresso COSEMS Ceará
DESCRIPTION:
URL:https://cosemsap.org.br/evento/congresso-cosems-ceara/
END:VEVENT
BEGIN:VEVENT
DTSTART;TZID=America/Sao_Paulo:20250318T080000
DTEND;TZID=America/Sao_Paulo:20250318T170000
DTSTAMP:20260423T232144
CREATED:20250307T183113Z
LAST-MODIFIED:20250307T183609Z
UID:5537-1742284800-1742317200@cosemsap.org.br
SUMMARY:OFICINA DE ESCRITA PREPARATÓRIA PARA VI MOSTRA AMAPÁ AQUI TEM SUS | EDIÇÃO 2025
DESCRIPTION:📍 Locais: Oiapoque\n⏰ Horário:\n• 09h00 – Oiapoque
URL:https://cosemsap.org.br/evento/oficina-de-escrita-preparatoria-para-vi-mostra-amapa-aqui-tem-sus-edicao-2025-8/
END:VEVENT
BEGIN:VEVENT
DTSTART;TZID=America/Sao_Paulo:20250317T170000
DTEND;TZID=America/Sao_Paulo:20250317T170000
DTSTAMP:20260423T232144
CREATED:20250228T144329Z
LAST-MODIFIED:20250228T144329Z
UID:5504-1742230800-1742230800@cosemsap.org.br
SUMMARY:Reunião Ordinária GTTAF
DESCRIPTION:
URL:https://cosemsap.org.br/evento/reuniao-ordinaria-gttaf/
CATEGORIES:Palestra,Reunião
END:VEVENT
BEGIN:VEVENT
DTSTART;TZID=America/Sao_Paulo:20250317T090000
DTEND;TZID=America/Sao_Paulo:20250317T170000
DTSTAMP:20260423T232144
CREATED:20250307T183022Z
LAST-MODIFIED:20250307T183723Z
UID:5535-1742202000-1742230800@cosemsap.org.br
SUMMARY:OFICINA DE ESCRITA PREPARATÓRIA PARA VI MOSTRA AMAPÁ AQUI TEM SUS | EDIÇÃO 2025
DESCRIPTION:📍 Locais: Pracuúba e Tartarugalzinho\n⏰ Horário:\n• 09h00 – Pracuúba\n• 14h00 – Tartarugalzinho
URL:https://cosemsap.org.br/evento/oficina-de-escrita-preparatoria-para-vi-mostra-amapa-aqui-tem-sus-edicao-2025-7/
END:VEVENT
BEGIN:VEVENT
DTSTART;TZID=America/Sao_Paulo:20250317T080000
DTEND;TZID=America/Sao_Paulo:20250317T170000
DTSTAMP:20260423T232144
CREATED:20250307T182629Z
LAST-MODIFIED:20250307T182629Z
UID:5533-1742198400-1742230800@cosemsap.org.br
SUMMARY:OFICINA DE ESCRITA PREPARATÓRIA PARA VI MOSTRA AMAPÁ AQUI TEM SUS | EDIÇÃO 2025
DESCRIPTION:📍 Locais: Amapá e Calçoene\n⏰ Horário:\n• 09h00 – Amapá\n• 14h00 – Calçoene
URL:https://cosemsap.org.br/evento/oficina-de-escrita-preparatoria-para-vi-mostra-amapa-aqui-tem-sus-edicao-2025-6/
END:VEVENT
BEGIN:VEVENT
DTSTART;TZID=America/Sao_Paulo:20250314T090000
DTEND;TZID=America/Sao_Paulo:20250314T170000
DTSTAMP:20260423T232144
CREATED:20250116T201808Z
LAST-MODIFIED:20250117T192154Z
UID:5051-1741942800-1741971600@cosemsap.org.br
SUMMARY:III Assembleia Geral Ordinária do COSEMS/AP
DESCRIPTION:
URL:https://cosemsap.org.br/evento/iii-assembleia-ordinaria-do-cosemsap/
LOCATION:sede do cosems amapá\, AV. LEOPOLDO MACHADO N°1614 ESQUINA COM MENDONÇA FURTADO\, CENTRO\,\, MACAPÁ\, AMAPÁ\, 68.900-070
END:VEVENT
BEGIN:VEVENT
DTSTART;TZID=America/Sao_Paulo:20250314T083000
DTEND;TZID=America/Sao_Paulo:20250314T130000
DTSTAMP:20260423T232144
CREATED:20250312T211959Z
LAST-MODIFIED:20250312T211959Z
UID:5615-1741941000-1741957200@cosemsap.org.br
SUMMARY:LXXXVII Reunião Extraordinária do Conselho Estadual de Saúde
DESCRIPTION:
URL:https://cosemsap.org.br/evento/lxxxvii-reuniao-extraordinaria-do-conselho-estadual-de-saude-2/
LOCATION:Sede Provisória do Conselho Estadual de Saúde – CES\, Rua Eliezer Levy N°768 entre a Avenida Mãe Luzia e José Antônio Siqueira - Bairro: Laguinho\, MACAPÁ\, AMAPÁ
CATEGORIES:Palestra,Reunião
END:VEVENT
BEGIN:VEVENT
DTSTART;TZID=America/Sao_Paulo:20250313T090000
DTEND;TZID=America/Sao_Paulo:20250313T090000
DTSTAMP:20260423T232144
CREATED:20250312T201019Z
LAST-MODIFIED:20250312T201539Z
UID:5595-1741856400-1741856400@cosemsap.org.br
SUMMARY:Reunião Ordinária CCE
DESCRIPTION:
URL:https://cosemsap.org.br/evento/reuniao-ordinaria-cce/
LOCATION:sala da SEMS/SEINP
END:VEVENT
BEGIN:VEVENT
DTSTART;TZID=America/Sao_Paulo:20250313T080000
DTEND;TZID=America/Sao_Paulo:20250313T170000
DTSTAMP:20260423T232144
CREATED:20250307T181958Z
LAST-MODIFIED:20250307T181958Z
UID:5531-1741852800-1741885200@cosemsap.org.br
SUMMARY:OFICINA DE ESCRITA PREPARATÓRIA PARA VI MOSTRA AMAPÁ AQUI TEM SUS | EDIÇÃO 2025
DESCRIPTION:📍 Locais: Laranjal do Jari\, Vitória do Jari\n⏰ Horário:\n• 09h00 – Laranjal do Jari\n• 09h00 – Vitória do Jari
URL:https://cosemsap.org.br/evento/oficina-de-escrita-preparatoria-para-vi-mostra-amapa-aqui-tem-sus-edicao-2025-5/
END:VEVENT
BEGIN:VEVENT
DTSTART;TZID=America/Sao_Paulo:20250313T080000
DTEND;TZID=America/Sao_Paulo:20250313T170000
DTSTAMP:20260423T232144
CREATED:20250307T181759Z
LAST-MODIFIED:20250307T181759Z
UID:5529-1741852800-1741885200@cosemsap.org.br
SUMMARY:OFICINA DE ESCRITA PREPARATÓRIA PARA VI MOSTRA AMAPÁ AQUI TEM SUS | EDIÇÃO 2025
DESCRIPTION:📍 Locais: Macapá\, Itaubal e Cutias\n⏰ Horário:\n• 09h00 – Macapá\n• 09h00 – Itaubal\n• 09h00 – Cutias
URL:https://cosemsap.org.br/evento/oficina-de-escrita-preparatoria-para-vi-mostra-amapa-aqui-tem-sus-edicao-2025-4/
END:VEVENT
BEGIN:VEVENT
DTSTART;TZID=America/Sao_Paulo:20250313T080000
DTEND;TZID=America/Sao_Paulo:20250313T123000
DTSTAMP:20260423T232144
CREATED:20250312T211353Z
LAST-MODIFIED:20250312T211353Z
UID:5613-1741852800-1741869000@cosemsap.org.br
SUMMARY:Reunião Conjunta CIR Central\, Sudeste e Norte
DESCRIPTION:
URL:https://cosemsap.org.br/evento/reuniao-conjunta-cir-central-sudeste-e-norte-2/
LOCATION:Gabinete da Secretária Estadual de Saúde (SESA)\, Av. Fab 81\, Macapá\, AP\, MACAPÁ\, AMAPÁ\, 68900-073
CATEGORIES:Palestra,Reunião
END:VEVENT
BEGIN:VEVENT
DTSTART;TZID=America/Sao_Paulo:20250312T090000
DTEND;TZID=America/Sao_Paulo:20250312T170000
DTSTAMP:20260423T232144
CREATED:20250307T181544Z
LAST-MODIFIED:20250307T181544Z
UID:5527-1741770000-1741798800@cosemsap.org.br
SUMMARY:OFICINA DE ESCRITA PREPARATÓRIA PARA VI MOSTRA AMAPÁ AQUI TEM SUS | EDIÇÃO 2025
DESCRIPTION:📍 Locais: Serra do Navio e Pedra Branca\n⏰ Horário:\n• 09h00 – Serra do Navio\n• 14h00 – Pedra Branca
URL:https://cosemsap.org.br/evento/oficina-de-escrita-preparatoria-para-vi-mostra-amapa-aqui-tem-sus-edicao-2025-3/
END:VEVENT
BEGIN:VEVENT
DTSTART;TZID=America/Sao_Paulo:20250311T080000
DTEND;TZID=America/Sao_Paulo:20250311T170000
DTSTAMP:20260423T232144
CREATED:20250307T181356Z
LAST-MODIFIED:20250307T181356Z
UID:5525-1741680000-1741712400@cosemsap.org.br
SUMMARY:OFICINA DE ESCRITA PREPARATÓRIA PARA VI MOSTRA AMAPÁ AQUI TEM SUS | EDIÇÃO 2025
DESCRIPTION:📍 Locais: Porto Grande e Ferreira Gomes\n⏰ Horário:\n• 09h00 – Porto Grande\n• 14h00 – Ferreira Gomes
URL:https://cosemsap.org.br/evento/oficina-de-escrita-preparatoria-para-vi-mostra-amapa-aqui-tem-sus-edicao-2025-2/
END:VEVENT
BEGIN:VEVENT
DTSTART;TZID=America/Sao_Paulo:20250310T080000
DTEND;TZID=America/Sao_Paulo:20250310T170000
DTSTAMP:20260423T232144
CREATED:20250307T181144Z
LAST-MODIFIED:20250307T181144Z
UID:5523-1741593600-1741626000@cosemsap.org.br
SUMMARY:OFICINA DE ESCRITA PREPARATÓRIA PARA VI MOSTRA AMAPÁ AQUI TEM SUS | EDIÇÃO 2025
DESCRIPTION:📍 Locais: Mazagão e Santana\n⏰ Horário:\n• 09h00 – Mazagão\n• 14h00 – Santana
URL:https://cosemsap.org.br/evento/oficina-de-escrita-preparatoria-para-vi-mostra-amapa-aqui-tem-sus-edicao-2025/
END:VEVENT
END:VCALENDAR