BEGIN:VCALENDAR
VERSION:2.0
PRODID:-//Cosems AP - ECPv6.15.13.1//NONSGML v1.0//EN
CALSCALE:GREGORIAN
METHOD:PUBLISH
X-WR-CALNAME:Cosems AP
X-ORIGINAL-URL:https://cosemsap.org.br
X-WR-CALDESC:Eventos para Cosems AP
REFRESH-INTERVAL;VALUE=DURATION:PT1H
X-Robots-Tag:noindex
X-PUBLISHED-TTL:PT1H
BEGIN:VTIMEZONE
TZID:America/Sao_Paulo
BEGIN:STANDARD
TZOFFSETFROM:-0300
TZOFFSETTO:-0300
TZNAME:-03
DTSTART:20240101T000000
END:STANDARD
END:VTIMEZONE
BEGIN:VEVENT
DTSTART;TZID=America/Sao_Paulo:20250317T170000
DTEND;TZID=America/Sao_Paulo:20250317T170000
DTSTAMP:20260424T044737
CREATED:20250228T144329Z
LAST-MODIFIED:20250228T144329Z
UID:5504-1742230800-1742230800@cosemsap.org.br
SUMMARY:Reunião Ordinária GTTAF
DESCRIPTION:
URL:https://cosemsap.org.br/evento/reuniao-ordinaria-gttaf/
LOCATION:AMAPÁ
CATEGORIES:Palestra,Reunião
END:VEVENT
BEGIN:VEVENT
DTSTART;TZID=America/Sao_Paulo:20250317T090000
DTEND;TZID=America/Sao_Paulo:20250317T170000
DTSTAMP:20260424T044737
CREATED:20250307T183022Z
LAST-MODIFIED:20250307T183723Z
UID:5535-1742202000-1742230800@cosemsap.org.br
SUMMARY:OFICINA DE ESCRITA PREPARATÓRIA PARA VI MOSTRA AMAPÁ AQUI TEM SUS | EDIÇÃO 2025
DESCRIPTION:📍 Locais: Pracuúba e Tartarugalzinho\n⏰ Horário:\n• 09h00 – Pracuúba\n• 14h00 – Tartarugalzinho
URL:https://cosemsap.org.br/evento/oficina-de-escrita-preparatoria-para-vi-mostra-amapa-aqui-tem-sus-edicao-2025-7/
LOCATION:AMAPÁ
END:VEVENT
BEGIN:VEVENT
DTSTART;TZID=America/Sao_Paulo:20250317T080000
DTEND;TZID=America/Sao_Paulo:20250317T170000
DTSTAMP:20260424T044737
CREATED:20250307T182629Z
LAST-MODIFIED:20250307T182629Z
UID:5533-1742198400-1742230800@cosemsap.org.br
SUMMARY:OFICINA DE ESCRITA PREPARATÓRIA PARA VI MOSTRA AMAPÁ AQUI TEM SUS | EDIÇÃO 2025
DESCRIPTION:📍 Locais: Amapá e Calçoene\n⏰ Horário:\n• 09h00 – Amapá\n• 14h00 – Calçoene
URL:https://cosemsap.org.br/evento/oficina-de-escrita-preparatoria-para-vi-mostra-amapa-aqui-tem-sus-edicao-2025-6/
LOCATION:AMAPÁ
END:VEVENT
BEGIN:VEVENT
DTSTART;TZID=America/Sao_Paulo:20250314T090000
DTEND;TZID=America/Sao_Paulo:20250314T170000
DTSTAMP:20260424T044737
CREATED:20250116T201808Z
LAST-MODIFIED:20250117T192154Z
UID:5051-1741942800-1741971600@cosemsap.org.br
SUMMARY:III Assembleia Geral Ordinária do COSEMS/AP
DESCRIPTION:
URL:https://cosemsap.org.br/evento/iii-assembleia-ordinaria-do-cosemsap/
LOCATION:sede do cosems amapá\, AV. LEOPOLDO MACHADO N°1614 ESQUINA COM MENDONÇA FURTADO\, CENTRO\,\, MACAPÁ\, AMAPÁ\, 68.900-070
END:VEVENT
BEGIN:VEVENT
DTSTART;TZID=America/Sao_Paulo:20250314T083000
DTEND;TZID=America/Sao_Paulo:20250314T130000
DTSTAMP:20260424T044737
CREATED:20250312T211959Z
LAST-MODIFIED:20250312T211959Z
UID:5615-1741941000-1741957200@cosemsap.org.br
SUMMARY:LXXXVII Reunião Extraordinária do Conselho Estadual de Saúde
DESCRIPTION:
URL:https://cosemsap.org.br/evento/lxxxvii-reuniao-extraordinaria-do-conselho-estadual-de-saude-2/
LOCATION:Sede Provisória do Conselho Estadual de Saúde – CES\, Rua Eliezer Levy N°768 entre a Avenida Mãe Luzia e José Antônio Siqueira - Bairro: Laguinho\, MACAPÁ\, AMAPÁ
CATEGORIES:Palestra,Reunião
END:VEVENT
BEGIN:VEVENT
DTSTART;TZID=America/Sao_Paulo:20250313T090000
DTEND;TZID=America/Sao_Paulo:20250313T090000
DTSTAMP:20260424T044737
CREATED:20250312T201019Z
LAST-MODIFIED:20250312T201539Z
UID:5595-1741856400-1741856400@cosemsap.org.br
SUMMARY:Reunião Ordinária CCE
DESCRIPTION:
URL:https://cosemsap.org.br/evento/reuniao-ordinaria-cce/
LOCATION:sala da SEMS/SEINP
END:VEVENT
BEGIN:VEVENT
DTSTART;TZID=America/Sao_Paulo:20250313T080000
DTEND;TZID=America/Sao_Paulo:20250313T170000
DTSTAMP:20260424T044737
CREATED:20250307T181958Z
LAST-MODIFIED:20250307T181958Z
UID:5531-1741852800-1741885200@cosemsap.org.br
SUMMARY:OFICINA DE ESCRITA PREPARATÓRIA PARA VI MOSTRA AMAPÁ AQUI TEM SUS | EDIÇÃO 2025
DESCRIPTION:📍 Locais: Laranjal do Jari\, Vitória do Jari\n⏰ Horário:\n• 09h00 – Laranjal do Jari\n• 09h00 – Vitória do Jari
URL:https://cosemsap.org.br/evento/oficina-de-escrita-preparatoria-para-vi-mostra-amapa-aqui-tem-sus-edicao-2025-5/
LOCATION:AMAPÁ
END:VEVENT
BEGIN:VEVENT
DTSTART;TZID=America/Sao_Paulo:20250313T080000
DTEND;TZID=America/Sao_Paulo:20250313T170000
DTSTAMP:20260424T044737
CREATED:20250307T181759Z
LAST-MODIFIED:20250307T181759Z
UID:5529-1741852800-1741885200@cosemsap.org.br
SUMMARY:OFICINA DE ESCRITA PREPARATÓRIA PARA VI MOSTRA AMAPÁ AQUI TEM SUS | EDIÇÃO 2025
DESCRIPTION:📍 Locais: Macapá\, Itaubal e Cutias\n⏰ Horário:\n• 09h00 – Macapá\n• 09h00 – Itaubal\n• 09h00 – Cutias
URL:https://cosemsap.org.br/evento/oficina-de-escrita-preparatoria-para-vi-mostra-amapa-aqui-tem-sus-edicao-2025-4/
LOCATION:AMAPÁ
END:VEVENT
BEGIN:VEVENT
DTSTART;TZID=America/Sao_Paulo:20250313T080000
DTEND;TZID=America/Sao_Paulo:20250313T123000
DTSTAMP:20260424T044737
CREATED:20250312T211353Z
LAST-MODIFIED:20250312T211353Z
UID:5613-1741852800-1741869000@cosemsap.org.br
SUMMARY:Reunião Conjunta CIR Central\, Sudeste e Norte
DESCRIPTION:
URL:https://cosemsap.org.br/evento/reuniao-conjunta-cir-central-sudeste-e-norte-2/
LOCATION:Gabinete da Secretária Estadual de Saúde (SESA)\, Av. Fab 81\, Macapá\, AP\, MACAPÁ\, AMAPÁ\, 68900-073
CATEGORIES:Palestra,Reunião
END:VEVENT
BEGIN:VEVENT
DTSTART;TZID=America/Sao_Paulo:20250312T090000
DTEND;TZID=America/Sao_Paulo:20250312T170000
DTSTAMP:20260424T044737
CREATED:20250307T181544Z
LAST-MODIFIED:20250307T181544Z
UID:5527-1741770000-1741798800@cosemsap.org.br
SUMMARY:OFICINA DE ESCRITA PREPARATÓRIA PARA VI MOSTRA AMAPÁ AQUI TEM SUS | EDIÇÃO 2025
DESCRIPTION:📍 Locais: Serra do Navio e Pedra Branca\n⏰ Horário:\n• 09h00 – Serra do Navio\n• 14h00 – Pedra Branca
URL:https://cosemsap.org.br/evento/oficina-de-escrita-preparatoria-para-vi-mostra-amapa-aqui-tem-sus-edicao-2025-3/
LOCATION:AMAPÁ
END:VEVENT
BEGIN:VEVENT
DTSTART;TZID=America/Sao_Paulo:20250311T080000
DTEND;TZID=America/Sao_Paulo:20250311T170000
DTSTAMP:20260424T044737
CREATED:20250307T181356Z
LAST-MODIFIED:20250307T181356Z
UID:5525-1741680000-1741712400@cosemsap.org.br
SUMMARY:OFICINA DE ESCRITA PREPARATÓRIA PARA VI MOSTRA AMAPÁ AQUI TEM SUS | EDIÇÃO 2025
DESCRIPTION:📍 Locais: Porto Grande e Ferreira Gomes\n⏰ Horário:\n• 09h00 – Porto Grande\n• 14h00 – Ferreira Gomes
URL:https://cosemsap.org.br/evento/oficina-de-escrita-preparatoria-para-vi-mostra-amapa-aqui-tem-sus-edicao-2025-2/
LOCATION:AMAPÁ
END:VEVENT
BEGIN:VEVENT
DTSTART;TZID=America/Sao_Paulo:20250310T080000
DTEND;TZID=America/Sao_Paulo:20250310T170000
DTSTAMP:20260424T044737
CREATED:20250307T181144Z
LAST-MODIFIED:20250307T181144Z
UID:5523-1741593600-1741626000@cosemsap.org.br
SUMMARY:OFICINA DE ESCRITA PREPARATÓRIA PARA VI MOSTRA AMAPÁ AQUI TEM SUS | EDIÇÃO 2025
DESCRIPTION:📍 Locais: Mazagão e Santana\n⏰ Horário:\n• 09h00 – Mazagão\n• 14h00 – Santana
URL:https://cosemsap.org.br/evento/oficina-de-escrita-preparatoria-para-vi-mostra-amapa-aqui-tem-sus-edicao-2025/
LOCATION:AMAPÁ
END:VEVENT
BEGIN:VEVENT
DTSTART;TZID=America/Sao_Paulo:20250307T080000
DTEND;TZID=America/Sao_Paulo:20250307T170000
DTSTAMP:20260424T044737
CREATED:20250228T161243Z
LAST-MODIFIED:20250307T125345Z
UID:5511-1741334400-1741366800@cosemsap.org.br
SUMMARY:Visitas Tecnicas nas UBS de Macapá e Santana
DESCRIPTION:
URL:https://cosemsap.org.br/evento/visitas-tecnicas-as-ubs-de-macapa-e-santana/
LOCATION:AMAPÁ
CATEGORIES:Palestra,Reunião
ATTACH;FMTTYPE=image/jpeg:https://cosemsap.org.br/wp-content/uploads/2025/02/WhatsApp-Image-2025-03-07-at-09.41.56.jpeg
END:VEVENT
BEGIN:VEVENT
DTSTART;TZID=America/Sao_Paulo:20250306T090000
DTEND;TZID=America/Sao_Paulo:20250306T170000
DTSTAMP:20260424T044737
CREATED:20250307T124819Z
LAST-MODIFIED:20250307T124819Z
UID:5513-1741251600-1741280400@cosemsap.org.br
SUMMARY:Oficina Saúde Digital
DESCRIPTION:O entendimento e aplicação de ferramentas e práticas de Saúde Digital no contexto do SUS é o objetivo desta oficina\, direcionada para gestores e técnicos do Sistema de Informação em Saúde.
URL:https://cosemsap.org.br/evento/oficina-saude-digital-2/
LOCATION:sede do cosems amapá\, AV. LEOPOLDO MACHADO N°1614 ESQUINA COM MENDONÇA FURTADO\, CENTRO\,\, MACAPÁ\, AMAPÁ\, 68.900-070
CATEGORIES:Palestra,Reunião
ATTACH;FMTTYPE=image/jpeg:https://cosemsap.org.br/wp-content/uploads/2025/03/WhatsApp-Image-2025-03-07-at-09.42.13-1.jpeg
END:VEVENT
BEGIN:VEVENT
DTSTART;TZID=America/Sao_Paulo:20250228T110000
DTEND;TZID=America/Sao_Paulo:20250228T170000
DTSTAMP:20260424T044737
CREATED:20250227T202653Z
LAST-MODIFIED:20250227T202653Z
UID:5502-1740740400-1740762000@cosemsap.org.br
SUMMARY:POS-CIT
DESCRIPTION:
URL:https://cosemsap.org.br/evento/pos-cit/
LOCATION:AMAPÁ
CATEGORIES:Palestra,Reunião
END:VEVENT
BEGIN:VEVENT
DTSTART;TZID=America/Sao_Paulo:20250226T150000
DTEND;TZID=America/Sao_Paulo:20250226T170000
DTSTAMP:20260424T044737
CREATED:20250220T211317Z
LAST-MODIFIED:20250220T211317Z
UID:5407-1740582000-1740589200@cosemsap.org.br
SUMMARY:Sala de Situação Nacional de Emergências Climáticas em Saúde
DESCRIPTION:
URL:https://cosemsap.org.br/evento/sala-de-situacao-nacional-de-emergencias-climaticas-em-saude/
LOCATION:AMAPÁ
CATEGORIES:Palestra,Reunião
END:VEVENT
BEGIN:VEVENT
DTSTART;TZID=America/Sao_Paulo:20250226T141500
DTEND;TZID=America/Sao_Paulo:20250226T170000
DTSTAMP:20260424T044737
CREATED:20250220T211154Z
LAST-MODIFIED:20250220T211154Z
UID:5405-1740579300-1740589200@cosemsap.org.br
SUMMARY:Reunião ordinária de trabalho do Comitê Estadual de Saúde Judiciário
DESCRIPTION:
URL:https://cosemsap.org.br/evento/reuniao-ordinaria-de-trabalho-do-comite-estadual-de-saude-judiciario/
LOCATION:AMAPÁ
CATEGORIES:Palestra,Reunião
END:VEVENT
BEGIN:VEVENT
DTSTART;TZID=America/Sao_Paulo:20250226T083000
DTEND;TZID=America/Sao_Paulo:20250226T130000
DTSTAMP:20260424T044737
CREATED:20250221T130423Z
LAST-MODIFIED:20250221T130423Z
UID:5410-1740558600-1740574800@cosemsap.org.br
SUMMARY:CVIII (108º) REUNIÃO ORDINÁRIA
DESCRIPTION:
URL:https://cosemsap.org.br/evento/cviii-108o-reuniao-ordinaria/
LOCATION:Sede Provisória do Conselho Estadual de Saúde – CES\, Rua Eliezer Levy N°768 entre a Avenida Mãe Luzia e José Antônio Siqueira - Bairro: Laguinho\, MACAPÁ\, AMAPÁ
CATEGORIES:Palestra,Reunião
END:VEVENT
BEGIN:VEVENT
DTSTART;TZID=America/Sao_Paulo:20250221T090000
DTEND;TZID=America/Sao_Paulo:20250221T170000
DTSTAMP:20260424T044737
CREATED:20250210T152711Z
LAST-MODIFIED:20250210T152711Z
UID:5347-1740128400-1740157200@cosemsap.org.br
SUMMARY:Reunião Conjunta CIR Central\, Sudeste e Norte
DESCRIPTION:
URL:https://cosemsap.org.br/evento/reuniao-conjunta-cir-central-sudeste-e-norte/
LOCATION:Gabinete da Secretária Estadual de Saúde (SESA)\, Av. Fab 81\, Macapá\, AP\, MACAPÁ\, AMAPÁ\, 68900-073
CATEGORIES:Reunião
END:VEVENT
BEGIN:VEVENT
DTSTART;TZID=America/Sao_Paulo:20250221T090000
DTEND;TZID=America/Sao_Paulo:20250221T120000
DTSTAMP:20260424T044737
CREATED:20250220T210831Z
LAST-MODIFIED:20250220T211045Z
UID:5402-1740128400-1740139200@cosemsap.org.br
SUMMARY:Reunião Técnica para orientação das notas técnicas e estratégias de vacinação da vacina contra Covid-19; Dengue; BCG e Pneumo 23 (CRIE)
DESCRIPTION:
URL:https://cosemsap.org.br/evento/reuniao-tecnica-para-orientacao-das-notas-tecnicas-e-estrategias-de-vacinacao-da-vacina-contra-covid-19-dengue-bcg-e-pneumo-23-crie/
LOCATION:AMAPÁ
CATEGORIES:Palestra,Reunião
END:VEVENT
BEGIN:VEVENT
DTSTART;TZID=America/Sao_Paulo:20250221T083000
DTEND;TZID=America/Sao_Paulo:20250221T173000
DTSTAMP:20260424T044737
CREATED:20250218T135133Z
LAST-MODIFIED:20250218T135213Z
UID:5397-1740126600-1740159000@cosemsap.org.br
SUMMARY:28ª Reunião Ampliada dos Conselhos de Saúde do Estado do Amapá
DESCRIPTION:
URL:https://cosemsap.org.br/evento/28a-reuniao-ampliada-dos-conselhos-de-saude-do-estado-do-amapa-2/
LOCATION:Sindicato dos Urbanitários – STIUAP\, Rua: Rio Macacoary Nº 16\, Macapá\, Amapá\, Brazil
CATEGORIES:Palestra,Reunião
END:VEVENT
BEGIN:VEVENT
DTSTART;TZID=America/Sao_Paulo:20250220T140000
DTEND;TZID=America/Sao_Paulo:20250220T180000
DTSTAMP:20260424T044737
CREATED:20250218T135015Z
LAST-MODIFIED:20250218T135243Z
UID:5394-1740060000-1740074400@cosemsap.org.br
SUMMARY:28ª Reunião Ampliada dos Conselhos de Saúde do Estado do Amapá
DESCRIPTION:
URL:https://cosemsap.org.br/evento/28a-reuniao-ampliada-dos-conselhos-de-saude-do-estado-do-amapa/
LOCATION:Sindicato dos Urbanitários – STIUAP\, Rua: Rio Macacoary Nº 16\, Macapá\, Amapá\, Brazil
CATEGORIES:Palestra,Reunião
END:VEVENT
BEGIN:VEVENT
DTSTART;TZID=America/Sao_Paulo:20250214T143000
DTEND;TZID=America/Sao_Paulo:20250214T170000
DTSTAMP:20260424T044737
CREATED:20250210T152452Z
LAST-MODIFIED:20250210T152452Z
UID:5344-1739543400-1739552400@cosemsap.org.br
SUMMARY:I Assembleia Geral Ordinária – CIB
DESCRIPTION:
URL:https://cosemsap.org.br/evento/i-assembleia-geral-ordinaria-cib/
LOCATION:Conselho de Secretarias Municipais de Saúde do Amapá\, Esquina com - R. Leopoldo Machado\, Av. Mendonça Furtado\, Macapá\, Amapá\, 68900-000\, Brasil
CATEGORIES:Reunião
END:VEVENT
BEGIN:VEVENT
DTSTART;TZID=America/Sao_Paulo:20250214T090000
DTEND;TZID=America/Sao_Paulo:20250214T170000
DTSTAMP:20260424T044737
CREATED:20250116T201554Z
LAST-MODIFIED:20250117T192102Z
UID:5049-1739523600-1739552400@cosemsap.org.br
SUMMARY:II Assembleia Geral Ordinária do COSEMS/AP
DESCRIPTION:
URL:https://cosemsap.org.br/evento/ii-assembleia-ordinaria-do-cosems-ap/
LOCATION:sede do cosems amapá\, AV. LEOPOLDO MACHADO N°1614 ESQUINA COM MENDONÇA FURTADO\, CENTRO\,\, MACAPÁ\, AMAPÁ\, 68.900-070
END:VEVENT
BEGIN:VEVENT
DTSTART;TZID=America/Sao_Paulo:20250213T143000
DTEND;TZID=America/Sao_Paulo:20250213T170000
DTSTAMP:20260424T044737
CREATED:20250205T182027Z
LAST-MODIFIED:20250205T182027Z
UID:5314-1739457000-1739466000@cosemsap.org.br
SUMMARY:Reunião de Alinhamento Hospital Regional de Porto Grande
DESCRIPTION:
URL:https://cosemsap.org.br/evento/reuniao-de-alinhamento-hospital-regional-de-porto-grande/
LOCATION:sede do cosems amapá\, AV. LEOPOLDO MACHADO N°1614 ESQUINA COM MENDONÇA FURTADO\, CENTRO\,\, MACAPÁ\, AMAPÁ\, 68.900-070
CATEGORIES:Palestra,Reunião
END:VEVENT
BEGIN:VEVENT
DTSTART;TZID=America/Sao_Paulo:20250213T090000
DTEND;TZID=America/Sao_Paulo:20250213T170000
DTSTAMP:20260424T044737
CREATED:20250210T152105Z
LAST-MODIFIED:20250210T152307Z
UID:5341-1739437200-1739466000@cosemsap.org.br
SUMMARY:Projeto Saúde Redes
DESCRIPTION:
URL:https://cosemsap.org.br/evento/projeto-saude-redes/
LOCATION:AMAPÁ
CATEGORIES:Palestra,Reunião
END:VEVENT
BEGIN:VEVENT
DTSTART;TZID=America/Sao_Paulo:20250212T150000
DTEND;TZID=America/Sao_Paulo:20250212T170000
DTSTAMP:20260424T044737
CREATED:20250210T151932Z
LAST-MODIFIED:20250210T151932Z
UID:5339-1739372400-1739379600@cosemsap.org.br
SUMMARY:Encontro Temático da Rede Conasems-Cosems
DESCRIPTION:
URL:https://cosemsap.org.br/evento/encontro-tematico-da-rede-conasems-cosems/
LOCATION:AMAPÁ
CATEGORIES:Palestra,Reunião
END:VEVENT
BEGIN:VEVENT
DTSTART;TZID=America/Sao_Paulo:20250212T090000
DTEND;TZID=America/Sao_Paulo:20250212T113000
DTSTAMP:20260424T044737
CREATED:20250211T135329Z
LAST-MODIFIED:20250211T135329Z
UID:5353-1739350800-1739359800@cosemsap.org.br
SUMMARY:Reunião de Alinhamento com os GTI-M
DESCRIPTION:
URL:https://cosemsap.org.br/evento/reuniao-de-alinhamento-com-os-gti-m/
LOCATION:AMAPÁ
CATEGORIES:Reunião
END:VEVENT
BEGIN:VEVENT
DTSTART;TZID=America/Sao_Paulo:20250207T143000
DTEND;TZID=America/Sao_Paulo:20250207T170000
DTSTAMP:20260424T044737
CREATED:20250114T151913Z
LAST-MODIFIED:20250205T181713Z
UID:5002-1738938600-1738947600@cosemsap.org.br
SUMMARY:1° Encontro de apoiadores Regionais do Amapá
DESCRIPTION:Indicados: Todos os Apoiadores do COSEMS-AP e Convidados.
URL:https://cosemsap.org.br/evento/1-encontro-de-apoiadores-regionais-do-amapa/
LOCATION:sede do cosems amapá\, AV. LEOPOLDO MACHADO N°1614 ESQUINA COM MENDONÇA FURTADO\, CENTRO\,\, MACAPÁ\, AMAPÁ\, 68.900-070
CATEGORIES:Palestra,Reunião
ATTACH;FMTTYPE=image/png:https://cosemsap.org.br/wp-content/uploads/2025/01/1o-Encontro-Apoiadores.png
END:VEVENT
BEGIN:VEVENT
DTSTART;TZID=America/Sao_Paulo:20250205T090000
DTEND;TZID=America/Sao_Paulo:20250205T170000
DTSTAMP:20260424T044737
CREATED:20250115T200413Z
LAST-MODIFIED:20250115T200413Z
UID:5021-1738746000-1738774800@cosemsap.org.br
SUMMARY:Evento de abertura dos Cursos de Especialização em Gestão e Preceptoria no SUS
DESCRIPTION:
URL:https://cosemsap.org.br/evento/evento-de-abertura-dos-cursos-de-especializacao-em-gestao-e-preceptoria-no-sus/
LOCATION:auditório do HU – UNIFAP – 2º. Andar\, Macapá\, Amapá
CATEGORIES:Palestra,Reunião
END:VEVENT
END:VCALENDAR